BEGIN:VCALENDAR
VERSION:2.0
PRODID:-//Memento Mori IG - ECPv6.15.20//NONSGML v1.0//EN
CALSCALE:GREGORIAN
METHOD:PUBLISH
X-WR-CALNAME:Memento Mori IG
X-ORIGINAL-URL:https://memento-mori-ig.de
X-WR-CALDESC:Veranstaltungen für Memento Mori IG
REFRESH-INTERVAL;VALUE=DURATION:PT1H
X-Robots-Tag:noindex
X-PUBLISHED-TTL:PT1H
BEGIN:VTIMEZONE
TZID:Europe/Berlin
BEGIN:DAYLIGHT
TZOFFSETFROM:+0100
TZOFFSETTO:+0200
TZNAME:CEST
DTSTART:20190331T010000
END:DAYLIGHT
BEGIN:STANDARD
TZOFFSETFROM:+0200
TZOFFSETTO:+0100
TZNAME:CET
DTSTART:20191027T010000
END:STANDARD
BEGIN:DAYLIGHT
TZOFFSETFROM:+0100
TZOFFSETTO:+0200
TZNAME:CEST
DTSTART:20200329T010000
END:DAYLIGHT
BEGIN:STANDARD
TZOFFSETFROM:+0200
TZOFFSETTO:+0100
TZNAME:CET
DTSTART:20201025T010000
END:STANDARD
BEGIN:DAYLIGHT
TZOFFSETFROM:+0100
TZOFFSETTO:+0200
TZNAME:CEST
DTSTART:20210328T010000
END:DAYLIGHT
BEGIN:STANDARD
TZOFFSETFROM:+0200
TZOFFSETTO:+0100
TZNAME:CET
DTSTART:20211031T010000
END:STANDARD
BEGIN:DAYLIGHT
TZOFFSETFROM:+0100
TZOFFSETTO:+0200
TZNAME:CEST
DTSTART:20220327T010000
END:DAYLIGHT
BEGIN:STANDARD
TZOFFSETFROM:+0200
TZOFFSETTO:+0100
TZNAME:CET
DTSTART:20221030T010000
END:STANDARD
BEGIN:DAYLIGHT
TZOFFSETFROM:+0100
TZOFFSETTO:+0200
TZNAME:CEST
DTSTART:20230326T010000
END:DAYLIGHT
BEGIN:STANDARD
TZOFFSETFROM:+0200
TZOFFSETTO:+0100
TZNAME:CET
DTSTART:20231029T010000
END:STANDARD
BEGIN:DAYLIGHT
TZOFFSETFROM:+0100
TZOFFSETTO:+0200
TZNAME:CEST
DTSTART:20240331T010000
END:DAYLIGHT
BEGIN:STANDARD
TZOFFSETFROM:+0200
TZOFFSETTO:+0100
TZNAME:CET
DTSTART:20241027T010000
END:STANDARD
END:VTIMEZONE
BEGIN:VEVENT
DTSTART;TZID=Europe/Berlin:20230908T080000
DTEND;TZID=Europe/Berlin:20230910T170000
DTSTAMP:20260421T155528
CREATED:20221031T104139Z
LAST-MODIFIED:20221031T104446Z
UID:283-1694160000-1694365200@memento-mori-ig.de
SUMMARY:Tag des Denkmals auf der Lichteneck
DESCRIPTION:
URL:https://memento-mori-ig.de/event/tag-des-denkmals-auf-der-lichteneck/
END:VEVENT
BEGIN:VEVENT
DTSTART;TZID=Europe/Berlin:20230901T080000
DTEND;TZID=Europe/Berlin:20230903T170000
DTSTAMP:20260421T155528
CREATED:20221031T104058Z
LAST-MODIFIED:20221031T104059Z
UID:281-1693555200-1693760400@memento-mori-ig.de
SUMMARY:Hochburgfest Emmendingen
DESCRIPTION:
URL:https://memento-mori-ig.de/event/hochburgfest-emmendingen/
END:VEVENT
BEGIN:VEVENT
DTSTART;TZID=Europe/Berlin:20230811T080000
DTEND;TZID=Europe/Berlin:20230813T170000
DTSTAMP:20260421T155528
CREATED:20221031T103820Z
LAST-MODIFIED:20230117T143856Z
UID:277-1691740800-1691946000@memento-mori-ig.de
SUMMARY:Mittelalterliches Spektakulum Angelbachtal
DESCRIPTION:Mittelalterliches Spektakulum Angelbachtal (ritterfest-angelbachtal.de)
URL:https://memento-mori-ig.de/event/neue-bewerbung/
END:VEVENT
BEGIN:VEVENT
DTSTART;TZID=Europe/Berlin:20230803T080000
DTEND;TZID=Europe/Berlin:20230811T170000
DTSTAMP:20260421T155528
CREATED:20221031T104013Z
LAST-MODIFIED:20221031T104014Z
UID:279-1691049600-1691773200@memento-mori-ig.de
SUMMARY:Privatveranstaltung
DESCRIPTION:
URL:https://memento-mori-ig.de/event/privatveranstaltung/
END:VEVENT
BEGIN:VEVENT
DTSTART;TZID=Europe/Berlin:20230630T080000
DTEND;TZID=Europe/Berlin:20230702T170000
DTSTAMP:20260421T155528
CREATED:20221031T103725Z
LAST-MODIFIED:20221031T103726Z
UID:275-1688112000-1688317200@memento-mori-ig.de
SUMMARY:Freundschaftslager
DESCRIPTION:
URL:https://memento-mori-ig.de/event/freundschaftslager/
END:VEVENT
BEGIN:VEVENT
DTSTART;TZID=Europe/Berlin:20230616T080000
DTEND;TZID=Europe/Berlin:20230618T170000
DTSTAMP:20260421T155528
CREATED:20230329T085507Z
LAST-MODIFIED:20230329T085509Z
UID:299-1686902400-1687107600@memento-mori-ig.de
SUMMARY:Festungsfest Germersheim
DESCRIPTION:
URL:https://memento-mori-ig.de/event/festungsfest-germersheim/
END:VEVENT
BEGIN:VEVENT
DTSTART;TZID=Europe/Berlin:20230511T080000
DTEND;TZID=Europe/Berlin:20230514T170000
DTSTAMP:20260421T155528
CREATED:20221031T103612Z
LAST-MODIFIED:20221031T103614Z
UID:273-1683792000-1684083600@memento-mori-ig.de
SUMMARY:Markt zu Nußloch
DESCRIPTION:
URL:https://memento-mori-ig.de/event/markt-zu-nussloch/
END:VEVENT
BEGIN:VEVENT
DTSTART;TZID=Europe/Berlin:20230505T180000
DTEND;TZID=Europe/Berlin:20230507T170000
DTSTAMP:20260421T155528
CREATED:20221031T103030Z
LAST-MODIFIED:20221031T103031Z
UID:271-1683309600-1683478800@memento-mori-ig.de
SUMMARY:Mittelalterfest auf der Murginsel
DESCRIPTION:Romantischen Mittelalterfest in Gernsbach auf der Murginsel
URL:https://memento-mori-ig.de/event/mittelalterfest-auf-der-murginsel/
END:VEVENT
BEGIN:VEVENT
DTSTART;TZID=Europe/Berlin:20230407T080000
DTEND;TZID=Europe/Berlin:20230410T170000
DTSTAMP:20260421T155528
CREATED:20221031T104542Z
LAST-MODIFIED:20221031T104544Z
UID:286-1680854400-1681146000@memento-mori-ig.de
SUMMARY:Neue Bewerbung
DESCRIPTION:
URL:https://memento-mori-ig.de/event/neue-bewerbung-2/
END:VEVENT
BEGIN:VEVENT
DTSTART;TZID=Europe/Berlin:20221023T080000
DTEND;TZID=Europe/Berlin:20221023T170000
DTSTAMP:20260421T155528
CREATED:20220801T161327Z
LAST-MODIFIED:20220801T161328Z
UID:255-1666512000-1666544400@memento-mori-ig.de
SUMMARY:Kampf-Training
DESCRIPTION:So das Wetter uns Hold ist treffen wir uns wieder im Oktober am üblichen Platz in der Nähe von Emmendingen ab 10 Uhr auf dem Parkplatz. \n\n\n\nJeder interessierte ist Eingeladen – es handelt sich um keinen Markt sondern einfach nur um ein lockeres Treffen für alle Mittelalterbegeisterten und alle „Kampfinteressierten“ ganz besonders. Alle Epochen und Kampfstile sind willkommen – was wie und wie hart gekämpft wird entscheiden die jeweils beteiligten Teilnehmer. Selbstverständlich ohne Gewähr/Haftung und auf eigene Verantwortung. Wer nicht Kämpfen kann oder möchte ist natürlich zum Fachsimpeln genauso willkommen.
URL:https://memento-mori-ig.de/event/kampf-training/
END:VEVENT
BEGIN:VEVENT
DTSTART;TZID=Europe/Berlin:20220911T080000
DTEND;TZID=Europe/Berlin:20220911T170000
DTSTAMP:20260421T155528
CREATED:20220801T150419Z
LAST-MODIFIED:20220801T150420Z
UID:219-1662883200-1662915600@memento-mori-ig.de
SUMMARY:Burg Lichteneck / Tag des Denkmals
DESCRIPTION:Nach Coronapause sind wir nun wieder am Tag des Denkmals auf der Lichteneck zu finden (da am gleichen Wochenende auch Schlossfest im Ort Hecklingen ist gehen wir davon aus das es ein gut besuchter Termin wird).  \n\n\n\nwww.burg-lichteneck.de
URL:https://memento-mori-ig.de/event/burg-lichteneck-tag-des-denkmals-2/
END:VEVENT
BEGIN:VEVENT
DTSTART;TZID=Europe/Berlin:20200913T080000
DTEND;TZID=Europe/Berlin:20200913T170000
DTSTAMP:20260421T155528
CREATED:20200106T110540Z
LAST-MODIFIED:20200106T110541Z
UID:123-1599984000-1600016400@memento-mori-ig.de
SUMMARY:Burg Lichteneck: Tag des Denkmals
DESCRIPTION:Wir beleben am Tag des offenen Denkmals die Burgruine Lichteneck.  \n\n\n\nOrt: Hecklingen/Kenzingen
URL:https://memento-mori-ig.de/event/burg-lichteneck-tag-des-denkmals/
END:VEVENT
BEGIN:VEVENT
DTSTART;TZID=Europe/Berlin:20200530T000000
DTEND;TZID=Europe/Berlin:20200601T235900
DTSTAMP:20260421T155528
CREATED:20191101T124310Z
LAST-MODIFIED:20200106T142455Z
UID:69-1590796800-1591055940@memento-mori-ig.de
SUMMARY:Markt der Epochen
DESCRIPTION:Ein wunderschöner Markt mit spitzen Veranstaltern. Wir waren 2019 dabei und freuen uns schon sehr auf 2020.
URL:https://memento-mori-ig.de/event/markt-der-epochen/
END:VEVENT
BEGIN:VEVENT
DTSTART;TZID=Europe/Berlin:20200509T080000
DTEND;TZID=Europe/Berlin:20200510T170000
DTSTAMP:20260421T155528
CREATED:20200106T103224Z
LAST-MODIFIED:20200106T103224Z
UID:119-1589011200-1589130000@memento-mori-ig.de
SUMMARY:Schlacht um den Sachsenwald 2020
DESCRIPTION:Zum nunmehr 4ten mal freuen wir uns auf die Teilnahme bei der Schlacht um den Sachsenwald. Trotz der weiten Anfahrt immer wieder schön. \n\n\n\nOrt : Lehmrade bei Mölln
URL:https://memento-mori-ig.de/event/schlacht-um-den-sachsenwald-2020/
END:VEVENT
BEGIN:VEVENT
DTSTART;TZID=Europe/Berlin:20200409T000000
DTEND;TZID=Europe/Berlin:20200414T235959
DTSTAMP:20260421T155528
CREATED:20200115T121701Z
LAST-MODIFIED:20200115T121703Z
UID:126-1586390400-1586908799@memento-mori-ig.de
SUMMARY:Osterfest im Adventon
DESCRIPTION:Wir freuen uns auf eine schöne lange Woche im traumhaften Ambiente des Adventon. \n\n\n\nOrt:  Osterburken
URL:https://memento-mori-ig.de/event/osterfest-im-adventon/
END:VEVENT
BEGIN:VEVENT
DTSTART;TZID=Europe/Berlin:20200307T100000
DTEND;TZID=Europe/Berlin:20200308T170000
DTSTAMP:20260421T155528
CREATED:20200105T103317Z
LAST-MODIFIED:20200105T103317Z
UID:110-1583575200-1583686800@memento-mori-ig.de
SUMMARY:Bauwochenende
DESCRIPTION:Ein Sonnensegel entsteht . . .  \n\n\n\nOrt: Emmendingen
URL:https://memento-mori-ig.de/event/bauwochenende-2/
END:VEVENT
BEGIN:VEVENT
DTSTART;TZID=Europe/Berlin:20200229T100000
DTEND;TZID=Europe/Berlin:20200301T170000
DTSTAMP:20260421T155528
CREATED:20200105T102920Z
LAST-MODIFIED:20200105T103044Z
UID:107-1582970400-1583082000@memento-mori-ig.de
SUMMARY:Nähwochenende
DESCRIPTION:Wir erstellen unser Kleidung mit Rat & Tat von Freunden. Bei Interesse der Teilnahme bitte bei uns melden. \n\n\n\nOrt: Kappel-Grafenhausen
URL:https://memento-mori-ig.de/event/naehwochenende/
END:VEVENT
BEGIN:VEVENT
DTSTART;TZID=Europe/Berlin:20200222T100000
DTEND;TZID=Europe/Berlin:20200223T170000
DTSTAMP:20260421T155528
CREATED:20200105T102232Z
LAST-MODIFIED:20200105T102403Z
UID:103-1582365600-1582477200@memento-mori-ig.de
SUMMARY:Bauwochenende
DESCRIPTION:Wir bauen Truhen\, Möbel usw. \n\n\n\nOrt: Kappel-Grafenhausen
URL:https://memento-mori-ig.de/event/bauwochenende/
END:VEVENT
END:VCALENDAR